BEGIN:VCALENDAR
VERSION:2.0
PRODID:-//Tukios.com/
BEGIN:VEVENT
UID:69c233c2-d208-48ec-9e94-32b4ecc23f60@www.ronaldmeadowsfp.com
DTSTAMP:20260424T012026Z
DTSTART:20260430T160000Z
DTEND:20260430T170000Z
SUMMARY:Funeral Service
DESCRIPTION:
URL:https://www.ronaldmeadowsfp.com/obituaries/william-lee-jack-smith
LOCATION: 130 Temple Street  Hinton WV 25951
GEO:37.6734543;-80.8913464
END:VEVENT
END:VCALENDAR