BEGIN:VCALENDAR
VERSION:2.0
PRODID:-//Tukios.com/
BEGIN:VEVENT
UID:50eaa9f9-8bf3-4d03-8209-0482e5958a43@www.ronaldmeadowsfp.com
DTSTAMP:20260423T033831Z
DTSTART:20260426T220000Z
DTEND:20260426T230000Z
SUMMARY:Visitation
DESCRIPTION:
URL:https://www.ronaldmeadowsfp.com/obituaries/robert-robbie-thomas
LOCATION:Ronald Meadows Funeral Parlors 130 Temple Street  Hinton WV 
	25951
GEO:37.6734543;-80.8913464
END:VEVENT
END:VCALENDAR