BEGIN:VCALENDAR
VERSION:2.0
PRODID:-//Tukios.com/
BEGIN:VEVENT
UID:9b27a16a-005e-4709-8557-57a78758976c@www.ronaldmeadowsfp.com
DTSTAMP:20260423T034121Z
DTSTART:20260426T230000Z
DTEND:20260427T000000Z
SUMMARY:Celebration of Life
DESCRIPTION:
URL:https://www.ronaldmeadowsfp.com/obituaries/robert-robbie-thomas
LOCATION:Ronald Meadows Funeral Parlors Chapel 130 Temple Street  Hinton 
	WV 25951
GEO:37.6734543;-80.8913464
END:VEVENT
END:VCALENDAR